BEGIN:VCALENDAR
VERSION:2.0
PRODID:-//Sofia's Someone - ECPv6.15.20//NONSGML v1.0//EN
CALSCALE:GREGORIAN
METHOD:PUBLISH
X-ORIGINAL-URL:https://sofiassomeone.com
X-WR-CALDESC:Events for Sofia's Someone
REFRESH-INTERVAL;VALUE=DURATION:PT1H
X-Robots-Tag:noindex
X-PUBLISHED-TTL:PT1H
BEGIN:VTIMEZONE
TZID:America/Halifax
BEGIN:DAYLIGHT
TZOFFSETFROM:-0400
TZOFFSETTO:-0300
TZNAME:ADT
DTSTART:20220313T060000
END:DAYLIGHT
BEGIN:STANDARD
TZOFFSETFROM:-0300
TZOFFSETTO:-0400
TZNAME:AST
DTSTART:20221106T050000
END:STANDARD
BEGIN:DAYLIGHT
TZOFFSETFROM:-0400
TZOFFSETTO:-0300
TZNAME:ADT
DTSTART:20230312T060000
END:DAYLIGHT
BEGIN:STANDARD
TZOFFSETFROM:-0300
TZOFFSETTO:-0400
TZNAME:AST
DTSTART:20231105T050000
END:STANDARD
BEGIN:DAYLIGHT
TZOFFSETFROM:-0400
TZOFFSETTO:-0300
TZNAME:ADT
DTSTART:20240310T060000
END:DAYLIGHT
BEGIN:STANDARD
TZOFFSETFROM:-0300
TZOFFSETTO:-0400
TZNAME:AST
DTSTART:20241103T050000
END:STANDARD
END:VTIMEZONE
BEGIN:VEVENT
DTSTART;TZID=America/Halifax:20230121T090000
DTEND;TZID=America/Halifax:20230121T150000
DTSTAMP:20260423T210804
CREATED:20220912T143101Z
LAST-MODIFIED:20221019T143232Z
UID:3463-1674291600-1674313200@sofiassomeone.com
SUMMARY:Cape Coral Kiwanis KidsFest 2023
DESCRIPTION:Join local author Donna Frost with her newly released children’s book\, Sofia’s Someone: The Beginning.
URL:https://sofiassomeone.com/event/cape-coral-kiwanis-kidsfest-2023/
LOCATION:Cape Coral High School\, 2300 Santa Barbara Blvd.\, Cape Coral\, FL\, 33991\, United States
CATEGORIES:Festival
END:VEVENT
END:VCALENDAR