BEGIN:VCALENDAR
VERSION:2.0
PRODID:-//Sofia's Someone - ECPv6.15.20//NONSGML v1.0//EN
CALSCALE:GREGORIAN
METHOD:PUBLISH
X-WR-CALNAME:Sofia's Someone
X-ORIGINAL-URL:https://sofiassomeone.com
X-WR-CALDESC:Events for Sofia's Someone
REFRESH-INTERVAL;VALUE=DURATION:PT1H
X-Robots-Tag:noindex
X-PUBLISHED-TTL:PT1H
BEGIN:VTIMEZONE
TZID:America/Halifax
BEGIN:DAYLIGHT
TZOFFSETFROM:-0400
TZOFFSETTO:-0300
TZNAME:ADT
DTSTART:20220313T060000
END:DAYLIGHT
BEGIN:STANDARD
TZOFFSETFROM:-0300
TZOFFSETTO:-0400
TZNAME:AST
DTSTART:20221106T050000
END:STANDARD
BEGIN:DAYLIGHT
TZOFFSETFROM:-0400
TZOFFSETTO:-0300
TZNAME:ADT
DTSTART:20230312T060000
END:DAYLIGHT
BEGIN:STANDARD
TZOFFSETFROM:-0300
TZOFFSETTO:-0400
TZNAME:AST
DTSTART:20231105T050000
END:STANDARD
BEGIN:DAYLIGHT
TZOFFSETFROM:-0400
TZOFFSETTO:-0300
TZNAME:ADT
DTSTART:20240310T060000
END:DAYLIGHT
BEGIN:STANDARD
TZOFFSETFROM:-0300
TZOFFSETTO:-0400
TZNAME:AST
DTSTART:20241103T050000
END:STANDARD
END:VTIMEZONE
BEGIN:VEVENT
DTSTART;TZID=America/Halifax:20230617T090000
DTEND;TZID=America/Halifax:20230617T150000
DTSTAMP:20260423T110004
CREATED:20230605T142942Z
LAST-MODIFIED:20230605T142942Z
UID:3693-1686992400-1687014000@sofiassomeone.com
SUMMARY:Book Reading & Signing at Buckingham Farms Restaurant
DESCRIPTION:FREE EVENT! Join local author Donna Frost as she reads from her newly released children’s book\, Princess Sofia’s Special School Adventure\, at Buckingham Farms Restaurant in Fort Myers. \n\nBOOK SIGNINGS & READINGS\n9:00am – 3:00pm \nPrincess Sofia’s Special School Adventure is the second book in a heartwarming children’s book series. In this tale\, Princess Sofia and her friend\, Fancy Belle\, visit a school and learn that all children\, including those with special needs\, are perfect just as they are.\nWondering what to get your children or grandchildren for birthdays\, Christmas\, or just a great gift? The Princess Sofia series is for everyone! \nBuckingham Farms Restaurant is a farm-to-table restaurant located at 12931 Orange River Blvd\, Fort Myers\, FL. 
URL:https://sofiassomeone.com/event/book-reading-signing-at-buckingham-farms-restaurant-3/
LOCATION:Buckingham Farms Restaurant\, 12931 Orange River Blvd\, Fort Myers\, FL\, 33905\, United States
CATEGORIES:Author Reading,Book Signing
ORGANIZER;CN="Buckingham Farms Restaurant":MAILTO:anna@buckingham-farms.com
END:VEVENT
END:VCALENDAR