BEGIN:VCALENDAR
VERSION:2.0
PRODID:-//Sofia's Someone - ECPv6.15.20//NONSGML v1.0//EN
CALSCALE:GREGORIAN
METHOD:PUBLISH
X-WR-CALNAME:Sofia's Someone
X-ORIGINAL-URL:https://sofiassomeone.com
X-WR-CALDESC:Events for Sofia's Someone
REFRESH-INTERVAL;VALUE=DURATION:PT1H
X-Robots-Tag:noindex
X-PUBLISHED-TTL:PT1H
BEGIN:VTIMEZONE
TZID:America/Halifax
BEGIN:DAYLIGHT
TZOFFSETFROM:-0400
TZOFFSETTO:-0300
TZNAME:ADT
DTSTART:20220313T060000
END:DAYLIGHT
BEGIN:STANDARD
TZOFFSETFROM:-0300
TZOFFSETTO:-0400
TZNAME:AST
DTSTART:20221106T050000
END:STANDARD
BEGIN:DAYLIGHT
TZOFFSETFROM:-0400
TZOFFSETTO:-0300
TZNAME:ADT
DTSTART:20230312T060000
END:DAYLIGHT
BEGIN:STANDARD
TZOFFSETFROM:-0300
TZOFFSETTO:-0400
TZNAME:AST
DTSTART:20231105T050000
END:STANDARD
BEGIN:DAYLIGHT
TZOFFSETFROM:-0400
TZOFFSETTO:-0300
TZNAME:ADT
DTSTART:20240310T060000
END:DAYLIGHT
BEGIN:STANDARD
TZOFFSETFROM:-0300
TZOFFSETTO:-0400
TZNAME:AST
DTSTART:20241103T050000
END:STANDARD
END:VTIMEZONE
BEGIN:VEVENT
DTSTART;TZID=America/Halifax:20231101T140000
DTEND;TZID=America/Halifax:20231101T150000
DTSTAMP:20260419T115404
CREATED:20230425T175911Z
LAST-MODIFIED:20230425T180659Z
UID:3660-1698847200-1698850800@sofiassomeone.com
SUMMARY:So You Want to Write a Book
DESCRIPTION:Want to write your own book? Join local children’s book author Donna Frost as she dives into the topic of writing and publishing.\n\nDonna Frost is the author of the Princess Sofia Book Series\, a children’s series based on the heartwarming true story of how her horse overcame a difficult past through love and patience.\n 
URL:https://sofiassomeone.com/event/so-you-want-to-write-a-book/
LOCATION:Bonita Springs Public Library\, 10560 Reynolds St.\, Bonita Springs\, FL\, 34135\, United States
CATEGORIES:Lecture
END:VEVENT
END:VCALENDAR