BEGIN:VCALENDAR
VERSION:2.0
PRODID:-//Sofia's Someone - ECPv6.15.20//NONSGML v1.0//EN
CALSCALE:GREGORIAN
METHOD:PUBLISH
X-WR-CALNAME:Sofia's Someone
X-ORIGINAL-URL:https://sofiassomeone.com
X-WR-CALDESC:Events for Sofia's Someone
REFRESH-INTERVAL;VALUE=DURATION:PT1H
X-Robots-Tag:noindex
X-PUBLISHED-TTL:PT1H
BEGIN:VTIMEZONE
TZID:America/Halifax
BEGIN:DAYLIGHT
TZOFFSETFROM:-0400
TZOFFSETTO:-0300
TZNAME:ADT
DTSTART:20220313T060000
END:DAYLIGHT
BEGIN:STANDARD
TZOFFSETFROM:-0300
TZOFFSETTO:-0400
TZNAME:AST
DTSTART:20221106T050000
END:STANDARD
BEGIN:DAYLIGHT
TZOFFSETFROM:-0400
TZOFFSETTO:-0300
TZNAME:ADT
DTSTART:20230312T060000
END:DAYLIGHT
BEGIN:STANDARD
TZOFFSETFROM:-0300
TZOFFSETTO:-0400
TZNAME:AST
DTSTART:20231105T050000
END:STANDARD
BEGIN:DAYLIGHT
TZOFFSETFROM:-0400
TZOFFSETTO:-0300
TZNAME:ADT
DTSTART:20240310T060000
END:DAYLIGHT
BEGIN:STANDARD
TZOFFSETFROM:-0300
TZOFFSETTO:-0400
TZNAME:AST
DTSTART:20241103T050000
END:STANDARD
BEGIN:DAYLIGHT
TZOFFSETFROM:-0400
TZOFFSETTO:-0300
TZNAME:ADT
DTSTART:20250309T060000
END:DAYLIGHT
BEGIN:STANDARD
TZOFFSETFROM:-0300
TZOFFSETTO:-0400
TZNAME:AST
DTSTART:20251102T050000
END:STANDARD
END:VTIMEZONE
BEGIN:VEVENT
DTSTART;TZID=America/Halifax:20231209T090000
DTEND;TZID=America/Halifax:20231209T150000
DTSTAMP:20260423T113627
CREATED:20231127T145806Z
LAST-MODIFIED:20231127T145806Z
UID:3781-1702112400-1702134000@sofiassomeone.com
SUMMARY:Children's Book Reading feat. Santa Claus
DESCRIPTION:FREE EVENT! This reading will be extra special because SANTA will be joining us! \nCome on out as local author Donna Frost reads from her recently released children’s book\, Princess Sofia’s Special School Adventure\, at Buckingham Farms Restaurant in Fort Myers. \n*BOOK SIGNINGS & READINGS*\n9:00am – 3:00pm \nPrincess Sofia’s Special School Adventure is the second book in a heartwarming children’s book series. In this tale\, Princess Sofia and her friend\, Fancy Belle\, visit a school and learn that all children\, including those with special needs\, are perfect just as they are. \nWondering what to get your children or grandchildren for birthdays\, Christmas\, or just a great gift? The Princess Sofia series is for everyone! \nBuckingham Farms Restaurant is a farm-to-table restaurant located at 12931 Orange River Blvd\, Fort Myers\, FL.
URL:https://sofiassomeone.com/event/childrens-book-reading-feat-santa-claus-2/
LOCATION:Buckingham Farms Restaurant\, 12931 Orange River Blvd\, Fort Myers\, FL\, 33905\, United States
CATEGORIES:Author Reading,Book Signing
ATTACH;FMTTYPE=image/png:https://sofiassomeone.com/wp-content/uploads/2023/11/DF-Event-Cover-Buckingham-Signing-2023-11-22-min.png
END:VEVENT
BEGIN:VEVENT
DTSTART;TZID=America/Halifax:20240323T130000
DTEND;TZID=America/Halifax:20240323T150000
DTSTAMP:20260423T113627
CREATED:20240321T144738Z
LAST-MODIFIED:20240321T145923Z
UID:3811-1711198800-1711206000@sofiassomeone.com
SUMMARY:Local Author Meet & Greet
DESCRIPTION:Come on out and meet local children’s author Donna Frost at the Bonita Springs Library’s Local Author Meet & Greet. \nIn the 3rd book of her Princess Sofia series\, Gracie visits the stables. Fearful of new people and new situations\, Princess Sofia turns to her friends for comfort and encouragement. With patience\, love\, and gentle kindness\, Gracie wins Princess Sofia’s trust\, and her heart. \nA portion of the sales for Princess Sofia: Accepting Gracie’s Love will be donated to Special Equestrians Inc.\, in Fort Myers\, FL\, to support the students\, horses\, staff\, and volunteers who make miracles happen. \nShop the series at: SofiasSomeone.com/Shop
URL:https://sofiassomeone.com/event/local-author-meet-greet/
LOCATION:Bonita Springs Public Library\, 10560 Reynolds St.\, Bonita Springs\, FL\, 34135\, United States
CATEGORIES:Book Signing,Festival
ATTACH;FMTTYPE=image/png:https://sofiassomeone.com/wp-content/uploads/2024/03/DF-Event-Cover-Bonita-Springs-Library-2024-03-copy-min.png
END:VEVENT
BEGIN:VEVENT
DTSTART;TZID=America/Halifax:20240405T090000
DTEND;TZID=America/Halifax:20240405T150000
DTSTAMP:20260423T113627
CREATED:20240325T145326Z
LAST-MODIFIED:20240325T145344Z
UID:3834-1712307600-1712329200@sofiassomeone.com
SUMMARY:Children's Book Reading
DESCRIPTION:FREE EVENT! Join local author Donna Frost as she reads from her newly released children’s book\, Princess Sofia: Accepting Gracie’s Love\, at Buckingham Farms Restaurant in Fort Myers. \n*BOOK SIGNINGS & READINGS*\n9:00am – 3:00pm \nPrincess Sofia: Accepting Gracie’s Love is the latest edition to a heartwarming children’s book series. In this 3rd book\, Gracie visits the stables. Fearful of new people and new situations\, Princess Sofia turns to her friends for comfort and encouragement. With patience\, love\, and gentle kindness\, Gracie wins Princess Sofia’s trust\, and her heart. \nWondering what to get your children or grandchildren for birthdays\, Christmas\, or just need a great gift? The Princess Sofia series is for everyone! \nBuckingham Farms Restaurant is a farm-to-table restaurant located at 12931 Orange River Blvd\, Fort Myers\, FL.
URL:https://sofiassomeone.com/event/childrens-book-reading-april-5/
LOCATION:Buckingham Farms Restaurant\, 12931 Orange River Blvd\, Fort Myers\, FL\, 33905\, United States
CATEGORIES:Author Reading,Book Signing
ATTACH;FMTTYPE=image/png:https://sofiassomeone.com/wp-content/uploads/2024/03/DF-Event-Cover-Buckingham-Signing-General-min.png
END:VEVENT
BEGIN:VEVENT
DTSTART;TZID=America/Halifax:20240406T090000
DTEND;TZID=America/Halifax:20240406T150000
DTSTAMP:20260423T113627
CREATED:20240325T145444Z
LAST-MODIFIED:20240325T145444Z
UID:3838-1712394000-1712415600@sofiassomeone.com
SUMMARY:Children's Book Reading
DESCRIPTION:FREE EVENT! Join local author Donna Frost as she reads from her newly released children’s book\, Princess Sofia: Accepting Gracie’s Love\, at Buckingham Farms Restaurant in Fort Myers. \n*BOOK SIGNINGS & READINGS*\n9:00am – 3:00pm \nPrincess Sofia: Accepting Gracie’s Love is the latest edition to a heartwarming children’s book series. In this 3rd book\, Gracie visits the stables. Fearful of new people and new situations\, Princess Sofia turns to her friends for comfort and encouragement. With patience\, love\, and gentle kindness\, Gracie wins Princess Sofia’s trust\, and her heart. \nWondering what to get your children or grandchildren for birthdays\, Christmas\, or just need a great gift? The Princess Sofia series is for everyone! \nBuckingham Farms Restaurant is a farm-to-table restaurant located at 12931 Orange River Blvd\, Fort Myers\, FL.
URL:https://sofiassomeone.com/event/childrens-book-reading-april-6/
LOCATION:Buckingham Farms Restaurant\, 12931 Orange River Blvd\, Fort Myers\, FL\, 33905\, United States
CATEGORIES:Author Reading,Book Signing
ATTACH;FMTTYPE=image/png:https://sofiassomeone.com/wp-content/uploads/2024/03/DF-Event-Cover-Buckingham-Signing-General-min.png
END:VEVENT
BEGIN:VEVENT
DTSTART;TZID=America/Halifax:20240420T090000
DTEND;TZID=America/Halifax:20240420T150000
DTSTAMP:20260423T113627
CREATED:20240325T144632Z
LAST-MODIFIED:20240325T150759Z
UID:3829-1713603600-1713625200@sofiassomeone.com
SUMMARY:Special Equestrians Ride-A-Thon at Babcock Ranch
DESCRIPTION:Author Donna Frost will be signing her newly released children’s book\, Princess Sofia: Accepting Gracie’s Love\, at the Special Equestrians Ride-A-Thon at Babcock Ranch in Punta Gorda. \nPrincess Sofia: Accepting Gracie’s Love is the latest edition to a heartwarming children’s book series. In this 3rd book\, Gracie visits the stables. Fearful of new people and new situations\, Princess Sofia turns to her friends for comfort and encouragement. With patience\, love\, and gentle kindness\, Gracie wins Princess Sofia’s trust\, and her heart. \nA portion of the sales for this book will be donated to Special Equestrians Inc.\, in Fort Myers\, FL\, to support the students\, horses\, staff\, and volunteers who make miracles happen. \nBabcock Ranch is located at 8000 State Rd 31\, Punta Gorda\, FL.
URL:https://sofiassomeone.com/event/special-equestrians-ride-a-thon-at-babcock-ranch/
LOCATION:Babcock Ranch\, 8000 State Rd 31\, Punta Gorda\, FL\, 33982\, United States
CATEGORIES:Book Signing
ATTACH;FMTTYPE=image/png:https://sofiassomeone.com/wp-content/uploads/2024/03/DF-Event-Cover-Babcock-Ride-A-Thon-2024-03-20-min.png
END:VEVENT
BEGIN:VEVENT
DTSTART;TZID=America/Halifax:20241101T090000
DTEND;TZID=America/Halifax:20241101T150000
DTSTAMP:20260423T113627
CREATED:20241028T205450Z
LAST-MODIFIED:20241028T205603Z
UID:3867-1730451600-1730473200@sofiassomeone.com
SUMMARY:Children's Book Reading at Buckingham Farms Restaurant
DESCRIPTION:FREE EVENT! Join local author Donna Frost as she reads from her children’s book series about Princess Sofia at Buckingham Farms Restaurant in Fort Myers. \nDuring the event\, Gracie’s Love will be available for $15\, and there will be a special 3 for $45 deal! \n*BOOK SIGNINGS & READINGS*\n9:00am – 3:00pm \nPrincess Sofia: Accepting Gracie’s Love is the latest edition to a heartwarming children’s book series. In this 3rd book\, Gracie visits the stables. Fearful of new people and new situations\, Princess Sofia turns to her friends for comfort and encouragement. With patience\, love\, and gentle kindness\, Gracie wins Princess Sofia’s trust\, and her heart. \nWondering what to get your children or grandchildren for birthdays\, Christmas\, or just need a great gift? The Princess Sofia series is for everyone! \nBuckingham Farms Restaurant is a farm-to-table restaurant located at 12931 Orange River Blvd\, Fort Myers\, FL.
URL:https://sofiassomeone.com/event/childrens-book-reading-at-buckingham-farms-restaurant/
LOCATION:Buckingham Farms Restaurant\, 12931 Orange River Blvd\, Fort Myers\, FL\, 33905\, United States
CATEGORIES:Author Reading,Book Signing
ATTACH;FMTTYPE=image/png:https://sofiassomeone.com/wp-content/uploads/2024/03/DF-Event-Cover-Buckingham-Signing-General-min.png
END:VEVENT
BEGIN:VEVENT
DTSTART;TZID=America/Halifax:20241102T090000
DTEND;TZID=America/Halifax:20241102T150000
DTSTAMP:20260423T113627
CREATED:20241028T205638Z
LAST-MODIFIED:20241028T205638Z
UID:3870-1730538000-1730559600@sofiassomeone.com
SUMMARY:Children's Book Reading at Buckingham Farms Restaurant
DESCRIPTION:FREE EVENT! Join local author Donna Frost as she reads from her children’s book series about Princess Sofia at Buckingham Farms Restaurant in Fort Myers. \nDuring the event\, Gracie’s Love will be available for $15\, and there will be a special 3 for $45 deal! \n*BOOK SIGNINGS & READINGS*\n9:00am – 3:00pm \nPrincess Sofia: Accepting Gracie’s Love is the latest edition to a heartwarming children’s book series. In this 3rd book\, Gracie visits the stables. Fearful of new people and new situations\, Princess Sofia turns to her friends for comfort and encouragement. With patience\, love\, and gentle kindness\, Gracie wins Princess Sofia’s trust\, and her heart. \nWondering what to get your children or grandchildren for birthdays\, Christmas\, or just need a great gift? The Princess Sofia series is for everyone! \nBuckingham Farms Restaurant is a farm-to-table restaurant located at 12931 Orange River Blvd\, Fort Myers\, FL.
URL:https://sofiassomeone.com/event/childrens-book-reading-at-buckingham-farms-restaurant-2/
LOCATION:Buckingham Farms Restaurant\, 12931 Orange River Blvd\, Fort Myers\, FL\, 33905\, United States
CATEGORIES:Author Reading,Book Signing
ATTACH;FMTTYPE=image/png:https://sofiassomeone.com/wp-content/uploads/2024/03/DF-Event-Cover-Buckingham-Signing-General-min.png
END:VEVENT
END:VCALENDAR