BEGIN:VCALENDAR
VERSION:2.0
PRODID:-//Sofia's Someone - ECPv6.15.20//NONSGML v1.0//EN
CALSCALE:GREGORIAN
METHOD:PUBLISH
X-WR-CALNAME:Sofia's Someone
X-ORIGINAL-URL:https://sofiassomeone.com
X-WR-CALDESC:Events for Sofia's Someone
REFRESH-INTERVAL;VALUE=DURATION:PT1H
X-Robots-Tag:noindex
X-PUBLISHED-TTL:PT1H
BEGIN:VTIMEZONE
TZID:America/Halifax
BEGIN:DAYLIGHT
TZOFFSETFROM:-0400
TZOFFSETTO:-0300
TZNAME:ADT
DTSTART:20210314T060000
END:DAYLIGHT
BEGIN:STANDARD
TZOFFSETFROM:-0300
TZOFFSETTO:-0400
TZNAME:AST
DTSTART:20211107T050000
END:STANDARD
BEGIN:DAYLIGHT
TZOFFSETFROM:-0400
TZOFFSETTO:-0300
TZNAME:ADT
DTSTART:20220313T060000
END:DAYLIGHT
BEGIN:STANDARD
TZOFFSETFROM:-0300
TZOFFSETTO:-0400
TZNAME:AST
DTSTART:20221106T050000
END:STANDARD
BEGIN:DAYLIGHT
TZOFFSETFROM:-0400
TZOFFSETTO:-0300
TZNAME:ADT
DTSTART:20230312T060000
END:DAYLIGHT
BEGIN:STANDARD
TZOFFSETFROM:-0300
TZOFFSETTO:-0400
TZNAME:AST
DTSTART:20231105T050000
END:STANDARD
END:VTIMEZONE
BEGIN:VEVENT
DTSTART;TZID=America/Halifax:20221210T100000
DTEND;TZID=America/Halifax:20221210T150000
DTSTAMP:20260423T205814
CREATED:20221116T162304Z
LAST-MODIFIED:20221117T183758Z
UID:3492-1670666400-1670684400@sofiassomeone.com
SUMMARY:Holiday Craft and Vendor Fair
DESCRIPTION:Come meet author Donna Frost\, and buy her book Sofia’s Someone: The Beginning\, the first book in a children’s series about facing hardships with love and patience. \n  \n 
URL:https://sofiassomeone.com/event/holiday-craft-and-vendor-fair/
LOCATION:Lehigh Acres Moose Lodge\, 210 Homestead Rd S\, Lehigh Acres\, FL\, 33936\, United States
CATEGORIES:Festival
END:VEVENT
END:VCALENDAR