BEGIN:VCALENDAR
VERSION:2.0
PRODID:-//Sofia's Someone - ECPv6.15.20//NONSGML v1.0//EN
CALSCALE:GREGORIAN
METHOD:PUBLISH
X-ORIGINAL-URL:https://sofiassomeone.com
X-WR-CALDESC:Events for Sofia's Someone
REFRESH-INTERVAL;VALUE=DURATION:PT1H
X-Robots-Tag:noindex
X-PUBLISHED-TTL:PT1H
BEGIN:VTIMEZONE
TZID:America/Halifax
BEGIN:DAYLIGHT
TZOFFSETFROM:-0400
TZOFFSETTO:-0300
TZNAME:ADT
DTSTART:20220313T060000
END:DAYLIGHT
BEGIN:STANDARD
TZOFFSETFROM:-0300
TZOFFSETTO:-0400
TZNAME:AST
DTSTART:20221106T050000
END:STANDARD
BEGIN:DAYLIGHT
TZOFFSETFROM:-0400
TZOFFSETTO:-0300
TZNAME:ADT
DTSTART:20230312T060000
END:DAYLIGHT
BEGIN:STANDARD
TZOFFSETFROM:-0300
TZOFFSETTO:-0400
TZNAME:AST
DTSTART:20231105T050000
END:STANDARD
BEGIN:DAYLIGHT
TZOFFSETFROM:-0400
TZOFFSETTO:-0300
TZNAME:ADT
DTSTART:20240310T060000
END:DAYLIGHT
BEGIN:STANDARD
TZOFFSETFROM:-0300
TZOFFSETTO:-0400
TZNAME:AST
DTSTART:20241103T050000
END:STANDARD
END:VTIMEZONE
BEGIN:VEVENT
DTSTART;TZID=America/Halifax:20230805T170000
DTEND;TZID=America/Halifax:20230805T200000
DTSTAMP:20260421T095003
CREATED:20230720T192435Z
LAST-MODIFIED:20230726T182313Z
UID:3702-1691254800-1691265600@sofiassomeone.com
SUMMARY:FAPA President's Book Awards Celebration
DESCRIPTION:Join local author Donna Frost as Sofia’s Someone receives an award from the Florida Authors and Publishers Association at the FAPACon Awards Ceremony!  Tickets are required to attend the event and can be found on the FAPACon event website. \nAward Ceremony Agenda \n5:00 pm Cash Bar Opens\n5:30 – 7:00 pm Heavy Hors d’oeuvres Buffet\n7:00 – 8:00 pm Awards Ceremony \n 
URL:https://sofiassomeone.com/event/fapa-presidents-book-awards-celebration/
LOCATION:Hilton Orlando Buena Vista Palace\, 1900 E Buena Vista Drive\, Lake Buena Vista\, FL\, 32830\, United States
CATEGORIES:Festival
END:VEVENT
END:VCALENDAR