BEGIN:VCALENDAR
VERSION:2.0
PRODID:-//Sofia's Someone - ECPv6.15.20//NONSGML v1.0//EN
CALSCALE:GREGORIAN
METHOD:PUBLISH
X-ORIGINAL-URL:https://sofiassomeone.com
X-WR-CALDESC:Events for Sofia's Someone
REFRESH-INTERVAL;VALUE=DURATION:PT1H
X-Robots-Tag:noindex
X-PUBLISHED-TTL:PT1H
BEGIN:VTIMEZONE
TZID:America/Halifax
BEGIN:DAYLIGHT
TZOFFSETFROM:-0400
TZOFFSETTO:-0300
TZNAME:ADT
DTSTART:20220313T060000
END:DAYLIGHT
BEGIN:STANDARD
TZOFFSETFROM:-0300
TZOFFSETTO:-0400
TZNAME:AST
DTSTART:20221106T050000
END:STANDARD
BEGIN:DAYLIGHT
TZOFFSETFROM:-0400
TZOFFSETTO:-0300
TZNAME:ADT
DTSTART:20230312T060000
END:DAYLIGHT
BEGIN:STANDARD
TZOFFSETFROM:-0300
TZOFFSETTO:-0400
TZNAME:AST
DTSTART:20231105T050000
END:STANDARD
BEGIN:DAYLIGHT
TZOFFSETFROM:-0400
TZOFFSETTO:-0300
TZNAME:ADT
DTSTART:20240310T060000
END:DAYLIGHT
BEGIN:STANDARD
TZOFFSETFROM:-0300
TZOFFSETTO:-0400
TZNAME:AST
DTSTART:20241103T050000
END:STANDARD
END:VTIMEZONE
BEGIN:VEVENT
DTSTART;TZID=America/Halifax:20230920T090000
DTEND;TZID=America/Halifax:20230920T103000
DTSTAMP:20260419T133951
CREATED:20230802T212040Z
LAST-MODIFIED:20230829T131446Z
UID:3714-1695200400-1695205800@sofiassomeone.com
SUMMARY:Children's Book Reading at M&M Farms
DESCRIPTION:FREE EVENT! Do your kids love horses? Join local author Donna Frost as she reads from her Princess Sofia children’s book series at M&M Farms in Fort Myers. \nRSVP to Mmfarmswfl@gmail.com with the number of kids and names. Parents must stay with their children during the event.
URL:https://sofiassomeone.com/event/childrens-book-reading-at-mm-farms/
LOCATION:M&M Farms\, 5450 Higginbotham Rd\, Fort Myers\, FL\, 33905\, United States
CATEGORIES:Author Reading
END:VEVENT
END:VCALENDAR